0.009570352941
0.000000000000
0.000000000000
-0.008993200000
29.990524
-10.268265
