0.002392588235
0.000000000000
0.000000000000
-0.002248300000
29.990524
-10.268265
